Package: AffiXcan Version: 1.24.0 Command: rm -rf AffiXcan.buildbin-libdir && mkdir AffiXcan.buildbin-libdir && F:\biocbuild\bbs-3.20-bioc\R\bin\R.exe CMD INSTALL --build --library=AffiXcan.buildbin-libdir AffiXcan_1.24.0.tar.gz StartedAt: 2025-04-01 07:37:36 -0400 (Tue, 01 Apr 2025) EndedAt: 2025-04-01 07:38:23 -0400 (Tue, 01 Apr 2025) EllapsedTime: 46.3 seconds RetCode: 0 Status: OK PackageFile: AffiXcan_1.24.0.zip PackageFileSize: 2.033 MiB