Package: AffiXcan Version: 1.24.0 Command: /Library/Frameworks/R.framework/Resources/bin/R CMD INSTALL AffiXcan StartedAt: 2025-01-27 15:52:12 -0500 (Mon, 27 Jan 2025) EndedAt: 2025-01-27 15:52:38 -0500 (Mon, 27 Jan 2025) EllapsedTime: 26.0 seconds RetCode: 0 Status: OK