Package: AffiXcan Version: 1.24.0 Command: /Library/Frameworks/R.framework/Resources/bin/R CMD build --keep-empty-dirs --no-resave-data AffiXcan StartedAt: 2025-01-27 18:33:38 -0500 (Mon, 27 Jan 2025) EndedAt: 2025-01-27 18:34:02 -0500 (Mon, 27 Jan 2025) EllapsedTime: 23.6 seconds RetCode: 0 Status: OK PackageFile: AffiXcan_1.24.0.tar.gz PackageFileSize: 2.372 MiB