Package: AWFisher Version: 1.20.0 Command: /home/biocbuild/R/R/bin/R CMD check --install=check:AWFisher.install-out.txt --library=/home/biocbuild/R/R/site-library --no-vignettes --timings AWFisher_1.20.0.tar.gz StartedAt: 2025-02-11 03:50:20 -0000 (Tue, 11 Feb 2025) EndedAt: 2025-02-11 03:50:55 -0000 (Tue, 11 Feb 2025) EllapsedTime: 35.1 seconds RetCode: 0 Status: OK CheckDir: AWFisher.Rcheck Warnings: 0