Package: AWFisher Version: 1.20.0 Command: /Library/Frameworks/R.framework/Resources/bin/R CMD INSTALL AWFisher StartedAt: 2025-02-10 15:13:03 -0500 (Mon, 10 Feb 2025) EndedAt: 2025-02-10 15:13:08 -0500 (Mon, 10 Feb 2025) EllapsedTime: 4.9 seconds RetCode: 0 Status: OK