Package: AWFisher Version: 1.20.0 Command: /Library/Frameworks/R.framework/Resources/bin/R CMD check --install=check:AWFisher.install-out.txt --library=/Library/Frameworks/R.framework/Resources/library --no-vignettes --timings AWFisher_1.20.0.tar.gz StartedAt: 2025-02-11 11:39:36 -0500 (Tue, 11 Feb 2025) EndedAt: 2025-02-11 11:40:15 -0500 (Tue, 11 Feb 2025) EllapsedTime: 39.4 seconds RetCode: 0 Status: OK CheckDir: AWFisher.Rcheck Warnings: 0