Package: AWFisher Version: 1.20.0 Command: /Library/Frameworks/R.framework/Resources/bin/R CMD build --keep-empty-dirs --no-resave-data AWFisher StartedAt: 2025-02-10 19:08:07 -0500 (Mon, 10 Feb 2025) EndedAt: 2025-02-10 19:08:40 -0500 (Mon, 10 Feb 2025) EllapsedTime: 33.3 seconds RetCode: 0 Status: OK PackageFile: AWFisher_1.20.0.tar.gz PackageFileSize: 1.399 MiB