Package: AUCell Version: 1.28.0 Command: /home/biocbuild/R/R/bin/R CMD INSTALL AUCell StartedAt: 2025-01-30 20:50:02 -0000 (Thu, 30 Jan 2025) EndedAt: 2025-01-30 20:50:42 -0000 (Thu, 30 Jan 2025) EllapsedTime: 39.9 seconds RetCode: 0 Status: OK