Package: AUCell Version: 1.28.0 Command: /home/biocbuild/R/R/bin/R CMD check --install=check:AUCell.install-out.txt --library=/home/biocbuild/R/R/site-library --no-vignettes --timings AUCell_1.28.0.tar.gz StartedAt: 2025-01-31 03:55:35 -0000 (Fri, 31 Jan 2025) EndedAt: 2025-01-31 04:00:13 -0000 (Fri, 31 Jan 2025) EllapsedTime: 277.4 seconds RetCode: 0 Status: OK CheckDir: AUCell.Rcheck Warnings: 0