Package: AUCell Version: 1.28.0 Command: /Library/Frameworks/R.framework/Resources/bin/R CMD INSTALL AUCell StartedAt: 2025-01-30 16:14:20 -0500 (Thu, 30 Jan 2025) EndedAt: 2025-01-30 16:15:34 -0500 (Thu, 30 Jan 2025) EllapsedTime: 73.7 seconds RetCode: 0 Status: OK