Package: AUCell Version: 1.28.0 Command: /Library/Frameworks/R.framework/Resources/bin/R CMD check --install=check:AUCell.install-out.txt --library=/Library/Frameworks/R.framework/Resources/library --no-vignettes --timings AUCell_1.28.0.tar.gz StartedAt: 2025-02-03 23:52:11 -0500 (Mon, 03 Feb 2025) EndedAt: 2025-02-04 00:00:13 -0500 (Tue, 04 Feb 2025) EllapsedTime: 482.1 seconds RetCode: 0 Status: OK CheckDir: AUCell.Rcheck Warnings: 0