Package: AUCell Version: 1.28.0 Command: rm -rf AUCell.buildbin-libdir && mkdir AUCell.buildbin-libdir && /Users/biocbuild/BBS/utils/build-universal.sh AUCell_1.28.0.tar.gz /Library/Frameworks/R.framework/Resources/bin/R AUCell.buildbin-libdir StartedAt: 2025-01-31 12:21:04 -0500 (Fri, 31 Jan 2025) EndedAt: 2025-01-31 12:22:16 -0500 (Fri, 31 Jan 2025) EllapsedTime: 71.9 seconds RetCode: 0 Status: OK PackageFile: AUCell_1.28.0.tgz PackageFileSize: 2.8 MiB