Package: ATACseqTFEA Version: 1.8.0 Command: /home/biocbuild/R/R/bin/R CMD build --keep-empty-dirs --no-resave-data ATACseqTFEA StartedAt: 2025-03-31 21:25:42 -0000 (Mon, 31 Mar 2025) EndedAt: 2025-03-31 21:28:04 -0000 (Mon, 31 Mar 2025) EllapsedTime: 142.0 seconds RetCode: 0 Status: OK PackageFile: ATACseqTFEA_1.8.0.tar.gz PackageFileSize: 4.418 MiB