Package: ATACseqTFEA Version: 1.8.0 Command: rm -rf ATACseqTFEA.buildbin-libdir && mkdir ATACseqTFEA.buildbin-libdir && F:\biocbuild\bbs-3.20-bioc\R\bin\R.exe CMD INSTALL --build --library=ATACseqTFEA.buildbin-libdir ATACseqTFEA_1.8.0.tar.gz StartedAt: 2025-01-28 07:39:41 -0500 (Tue, 28 Jan 2025) EndedAt: 2025-01-28 07:41:06 -0500 (Tue, 28 Jan 2025) EllapsedTime: 85.0 seconds RetCode: 0 Status: OK PackageFile: ATACseqTFEA_1.8.0.zip PackageFileSize: 4.785 MiB