Package: ATACseqTFEA Version: 1.8.0 Command: /Library/Frameworks/R.framework/Resources/bin/R CMD INSTALL ATACseqTFEA StartedAt: 2025-03-31 16:12:21 -0400 (Mon, 31 Mar 2025) EndedAt: 2025-03-31 16:13:15 -0400 (Mon, 31 Mar 2025) EllapsedTime: 53.7 seconds RetCode: 0 Status: OK