Package: ATACseqTFEA Version: 1.8.0 Command: /Library/Frameworks/R.framework/Resources/bin/R CMD build --keep-empty-dirs --no-resave-data ATACseqTFEA StartedAt: 2025-01-27 18:58:57 -0500 (Mon, 27 Jan 2025) EndedAt: 2025-01-27 19:01:03 -0500 (Mon, 27 Jan 2025) EllapsedTime: 125.8 seconds RetCode: 0 Status: OK PackageFile: ATACseqTFEA_1.8.0.tar.gz PackageFileSize: 4.41 MiB