Package: ATACseqTFEA Version: 1.8.0 Maintainer: Jianhong Ou MaintainerEmail: jianhong.ou at duke.edu git_url: https://git.bioconductor.org/packages/ATACseqTFEA git_branch: RELEASE_3_20 git_last_commit: 3abd5b5 git_last_commit_date: 2024-10-29 11:13:36 -0500 (Tue, 29 Oct 2024)