Package: ATACseqQC Version: 1.30.0 Command: /home/biocbuild/R/R/bin/R CMD check --install=check:ATACseqQC.install-out.txt --library=/home/biocbuild/R/R/site-library --no-vignettes --timings ATACseqQC_1.30.0.tar.gz StartedAt: 2025-02-04 04:27:47 -0000 (Tue, 04 Feb 2025) EndedAt: 2025-02-04 04:44:46 -0000 (Tue, 04 Feb 2025) EllapsedTime: 1019.0 seconds RetCode: 0 Status: OK CheckDir: ATACseqQC.Rcheck Warnings: 0