Package: ATACseqQC Version: 1.30.0 Command: /home/biocbuild/R/R/bin/R CMD build --keep-empty-dirs --no-resave-data ATACseqQC StartedAt: 2025-01-27 22:21:49 -0000 (Mon, 27 Jan 2025) EndedAt: 2025-01-27 22:25:38 -0000 (Mon, 27 Jan 2025) EllapsedTime: 229.1 seconds RetCode: 0 Status: OK PackageFile: ATACseqQC_1.30.0.tar.gz PackageFileSize: 13.93 MiB