Package: ATACseqQC Version: 1.30.0 Command: rm -rf ATACseqQC.buildbin-libdir && mkdir ATACseqQC.buildbin-libdir && F:\biocbuild\bbs-3.20-bioc\R\bin\R.exe CMD INSTALL --build --library=ATACseqQC.buildbin-libdir ATACseqQC_1.30.0.tar.gz StartedAt: 2025-01-28 07:39:40 -0500 (Tue, 28 Jan 2025) EndedAt: 2025-01-28 07:41:02 -0500 (Tue, 28 Jan 2025) EllapsedTime: 82.8 seconds RetCode: 0 Status: OK PackageFile: ATACseqQC_1.30.0.zip PackageFileSize: 13.11 MiB