Package: ATACseqQC Version: 1.30.0 Command: /home/biocbuild/bbs-3.20-bioc/R/bin/R CMD INSTALL ATACseqQC StartedAt: 2025-01-27 16:42:07 -0500 (Mon, 27 Jan 2025) EndedAt: 2025-01-27 16:43:19 -0500 (Mon, 27 Jan 2025) EllapsedTime: 72.2 seconds RetCode: 0 Status: OK