Package: ATACseqQC Version: 1.30.0 Command: /Library/Frameworks/R.framework/Resources/bin/R CMD INSTALL ATACseqQC StartedAt: 2025-02-03 16:29:41 -0500 (Mon, 03 Feb 2025) EndedAt: 2025-02-03 16:31:43 -0500 (Mon, 03 Feb 2025) EllapsedTime: 121.9 seconds RetCode: 0 Status: OK