Package: ATACseqQC Version: 1.30.0 Command: /Library/Frameworks/R.framework/Resources/bin/R CMD check --install=check:ATACseqQC.install-out.txt --library=/Library/Frameworks/R.framework/Resources/library --no-vignettes --timings ATACseqQC_1.30.0.tar.gz StartedAt: 2025-02-04 11:36:04 -0500 (Tue, 04 Feb 2025) EndedAt: 2025-02-04 11:49:08 -0500 (Tue, 04 Feb 2025) EllapsedTime: 783.8 seconds RetCode: 0 Status: OK CheckDir: ATACseqQC.Rcheck Warnings: 0