Package: ATACCoGAPS Version: 1.7.0 Command: rm -rf ATACCoGAPS.buildbin-libdir && mkdir ATACCoGAPS.buildbin-libdir && F:\biocbuild\bbs-3.20-bioc\R\bin\R.exe CMD INSTALL --build --library=ATACCoGAPS.buildbin-libdir ATACCoGAPS_1.7.0.tar.gz StartedAt: 2024-06-10 12:53:17 -0400 (Mon, 10 Jun 2024) EndedAt: 2024-06-10 12:55:16 -0400 (Mon, 10 Jun 2024) EllapsedTime: 118.9 seconds RetCode: 0 Status: OK PackageFile: ATACCoGAPS_1.7.0.zip PackageFileSize: 2.583 MiB