Package: ATACCoGAPS Version: 1.8.0 Command: /Library/Frameworks/R.framework/Resources/bin/R CMD build --keep-empty-dirs --no-resave-data ATACCoGAPS StartedAt: 2025-01-27 18:57:28 -0500 (Mon, 27 Jan 2025) EndedAt: 2025-01-27 18:58:57 -0500 (Mon, 27 Jan 2025) EllapsedTime: 89.6 seconds RetCode: 1 Status: ERROR PackageFile: None PackageFileSize: NA