Package: ASpli Version: 2.16.0 Command: F:\biocbuild\bbs-3.20-bioc\R\bin\R.exe CMD INSTALL ASpli StartedAt: 2025-03-31 16:20:06 -0400 (Mon, 31 Mar 2025) EndedAt: 2025-03-31 16:22:13 -0400 (Mon, 31 Mar 2025) EllapsedTime: 126.4 seconds RetCode: 0 Status: OK