Package: ASpli Version: 2.16.0 Command: F:\biocbuild\bbs-3.20-bioc\R\bin\R.exe CMD check --no-multiarch --install=check:ASpli.install-out.txt --library=F:\biocbuild\bbs-3.20-bioc\R\library --no-vignettes --timings ASpli_2.16.0.tar.gz StartedAt: 2025-03-31 22:58:52 -0400 (Mon, 31 Mar 2025) EndedAt: 2025-03-31 23:19:19 -0400 (Mon, 31 Mar 2025) EllapsedTime: 1226.9 seconds RetCode: 0 Status: WARNINGS CheckDir: ASpli.Rcheck Warnings: 1