Package: ASURAT Version: 1.10.0 Command: chmod a+r ASURAT -R && F:\biocbuild\bbs-3.20-bioc\R\bin\R.exe CMD build --keep-empty-dirs --no-resave-data ASURAT StartedAt: 2025-01-27 17:23:59 -0500 (Mon, 27 Jan 2025) EndedAt: 2025-01-27 17:40:15 -0500 (Mon, 27 Jan 2025) EllapsedTime: 976.2 seconds RetCode: 0 Status: OK PackageFile: ASURAT_1.10.0.tar.gz PackageFileSize: 1.161 MiB