Package: ASURAT Version: 1.10.0 Command: /Library/Frameworks/R.framework/Resources/bin/R CMD build --keep-empty-dirs --no-resave-data ASURAT StartedAt: 2025-03-31 18:50:01 -0400 (Mon, 31 Mar 2025) EndedAt: 2025-03-31 19:04:37 -0400 (Mon, 31 Mar 2025) EllapsedTime: 876.3 seconds RetCode: 0 Status: OK PackageFile: ASURAT_1.10.0.tar.gz PackageFileSize: 1.741 MiB