Package: ASSIGN Version: 1.42.0 Command: /home/biocbuild/R/R/bin/R CMD INSTALL ASSIGN StartedAt: 2025-02-03 21:13:27 -0000 (Mon, 03 Feb 2025) EndedAt: 2025-02-03 21:13:31 -0000 (Mon, 03 Feb 2025) EllapsedTime: 3.9 seconds RetCode: 0 Status: OK