Package: ASSIGN Version: 1.42.0 Command: /home/biocbuild/R/R/bin/R CMD build --keep-empty-dirs --no-resave-data ASSIGN StartedAt: 2025-02-03 21:40:26 -0000 (Mon, 03 Feb 2025) EndedAt: 2025-02-03 21:40:33 -0000 (Mon, 03 Feb 2025) EllapsedTime: 7.0 seconds RetCode: 0 Status: OK PackageFile: ASSIGN_1.42.0.tar.gz PackageFileSize: 1.685 MiB