Package: ASSIGN Version: 1.42.0 Command: /Library/Frameworks/R.framework/Resources/bin/R CMD check --install=check:ASSIGN.install-out.txt --library=/Library/Frameworks/R.framework/Resources/library --no-vignettes --timings ASSIGN_1.42.0.tar.gz StartedAt: 2025-04-01 11:01:23 -0400 (Tue, 01 Apr 2025) EndedAt: 2025-04-01 11:02:11 -0400 (Tue, 01 Apr 2025) EllapsedTime: 48.4 seconds RetCode: 0 Status: OK CheckDir: ASSIGN.Rcheck Warnings: 0