Package: ASSET Version: 2.24.0 Command: /Library/Frameworks/R.framework/Resources/bin/R CMD build --keep-empty-dirs --no-resave-data ASSET StartedAt: 2025-01-30 17:10:17 -0500 (Thu, 30 Jan 2025) EndedAt: 2025-01-30 17:11:00 -0500 (Thu, 30 Jan 2025) EllapsedTime: 42.6 seconds RetCode: 0 Status: OK PackageFile: ASSET_2.24.0.tar.gz PackageFileSize: 322.3 KiB