Package: ASSET Version: 2.24.0 Command: /Library/Frameworks/R.framework/Resources/bin/R CMD check --install=check:ASSET.install-out.txt --library=/Library/Frameworks/R.framework/Resources/library --no-vignettes --timings ASSET_2.24.0.tar.gz StartedAt: 2025-01-31 11:16:47 -0500 (Fri, 31 Jan 2025) EndedAt: 2025-01-31 11:18:50 -0500 (Fri, 31 Jan 2025) EllapsedTime: 122.8 seconds RetCode: 0 Status: OK CheckDir: ASSET.Rcheck Warnings: 0