Package: ASICS Version: 2.22.0 Command: F:\biocbuild\bbs-3.20-bioc\R\bin\R.exe CMD check --no-multiarch --install=check:ASICS.install-out.txt --library=F:\biocbuild\bbs-3.20-bioc\R\library --no-vignettes --timings ASICS_2.22.0.tar.gz StartedAt: 2025-03-31 22:58:44 -0400 (Mon, 31 Mar 2025) EndedAt: 2025-03-31 23:14:28 -0400 (Mon, 31 Mar 2025) EllapsedTime: 944.2 seconds RetCode: 0 Status: WARNINGS CheckDir: ASICS.Rcheck Warnings: 1