Package: ASGSCA Version: 1.40.0 Command: /home/biocbuild/R/R/bin/R CMD check --install=check:ASGSCA.install-out.txt --library=/home/biocbuild/R/R/site-library --no-vignettes --timings ASGSCA_1.40.0.tar.gz StartedAt: 2025-02-04 04:26:16 -0000 (Tue, 04 Feb 2025) EndedAt: 2025-02-04 04:32:14 -0000 (Tue, 04 Feb 2025) EllapsedTime: 358.8 seconds RetCode: 0 Status: OK CheckDir: ASGSCA.Rcheck Warnings: 0