Package: ASEB Version: 1.50.0 Command: chmod a+r ASEB -R && F:\biocbuild\bbs-3.20-bioc\R\bin\R.exe CMD build --keep-empty-dirs --no-resave-data ASEB StartedAt: 2025-01-27 17:22:58 -0500 (Mon, 27 Jan 2025) EndedAt: 2025-01-27 17:23:28 -0500 (Mon, 27 Jan 2025) EllapsedTime: 29.9 seconds RetCode: 0 Status: OK PackageFile: ASEB_1.50.0.tar.gz PackageFileSize: 477.6 KiB