Package: ASEB Version: 1.50.0 Command: /home/biocbuild/bbs-3.20-bioc/R/bin/R CMD check --install=check:ASEB.install-out.txt --library=/home/biocbuild/bbs-3.20-bioc/R/site-library --timings ASEB_1.50.0.tar.gz StartedAt: 2025-01-27 20:51:28 -0500 (Mon, 27 Jan 2025) EndedAt: 2025-01-27 20:51:52 -0500 (Mon, 27 Jan 2025) EllapsedTime: 24.0 seconds RetCode: 0 Status: WARNINGS CheckDir: ASEB.Rcheck Warnings: 1