Package: ASEB Version: 1.50.0 Command: /Library/Frameworks/R.framework/Resources/bin/R CMD build --keep-empty-dirs --no-resave-data ASEB StartedAt: 2024-11-08 15:58:23 -0500 (Fri, 08 Nov 2024) EndedAt: 2024-11-08 15:58:29 -0500 (Fri, 08 Nov 2024) EllapsedTime: 6.1 seconds RetCode: 0 Status: OK PackageFile: ASEB_1.50.0.tar.gz PackageFileSize: 602.8 KiB