Package: ASAFE Version: 1.32.0 Command: /home/biocbuild/R/R/bin/R CMD build --keep-empty-dirs --no-resave-data ASAFE StartedAt: 2025-02-03 21:39:25 -0000 (Mon, 03 Feb 2025) EndedAt: 2025-02-03 21:39:32 -0000 (Mon, 03 Feb 2025) EllapsedTime: 7.0 seconds RetCode: 0 Status: OK PackageFile: ASAFE_1.32.0.tar.gz PackageFileSize: 394.2 KiB