Package: ASAFE Version: 1.32.0 Command: F:\biocbuild\bbs-3.20-bioc\R\bin\R.exe CMD INSTALL ASAFE StartedAt: 2025-01-27 15:25:39 -0500 (Mon, 27 Jan 2025) EndedAt: 2025-01-27 15:25:52 -0500 (Mon, 27 Jan 2025) EllapsedTime: 13.6 seconds RetCode: 0 Status: OK