Package: ASAFE Version: 1.32.0 Command: rm -rf ASAFE.buildbin-libdir && mkdir ASAFE.buildbin-libdir && F:\biocbuild\bbs-3.20-bioc\R\bin\R.exe CMD INSTALL --build --library=ASAFE.buildbin-libdir ASAFE_1.32.0.tar.gz StartedAt: 2025-01-28 07:39:13 -0500 (Tue, 28 Jan 2025) EndedAt: 2025-01-28 07:39:21 -0500 (Tue, 28 Jan 2025) EllapsedTime: 7.7 seconds RetCode: 0 Status: OK PackageFile: ASAFE_1.32.0.zip PackageFileSize: 590.4 KiB