Package: ASAFE Version: 1.32.0 Command: /Library/Frameworks/R.framework/Resources/bin/R CMD INSTALL ASAFE StartedAt: 2025-01-27 15:02:50 -0500 (Mon, 27 Jan 2025) EndedAt: 2025-01-27 15:02:54 -0500 (Mon, 27 Jan 2025) EllapsedTime: 3.8 seconds RetCode: 0 Status: OK