Package: ASAFE Version: 1.32.0 Command: /Library/Frameworks/R.framework/Resources/bin/R CMD check --install=check:ASAFE.install-out.txt --library=/Library/Frameworks/R.framework/Resources/library --no-vignettes --timings ASAFE_1.32.0.tar.gz StartedAt: 2025-02-04 11:33:35 -0500 (Tue, 04 Feb 2025) EndedAt: 2025-02-04 11:33:58 -0500 (Tue, 04 Feb 2025) EllapsedTime: 23.5 seconds RetCode: 0 Status: OK CheckDir: ASAFE.Rcheck Warnings: 0