Package: ASAFE Version: 1.32.0 Command: /Library/Frameworks/R.framework/Resources/bin/R CMD build --keep-empty-dirs --no-resave-data ASAFE StartedAt: 2025-01-27 18:53:49 -0500 (Mon, 27 Jan 2025) EndedAt: 2025-01-27 18:54:01 -0500 (Mon, 27 Jan 2025) EllapsedTime: 11.4 seconds RetCode: 0 Status: OK PackageFile: ASAFE_1.32.0.tar.gz PackageFileSize: 425.9 KiB