Package: ARRmNormalization Version: 1.46.0 Command: F:\biocbuild\bbs-3.20-bioc\R\bin\R.exe CMD check --no-multiarch --install=check:ARRmNormalization.install-out.txt --library=F:\biocbuild\bbs-3.20-bioc\R\library --no-vignettes --timings ARRmNormalization_1.46.0.tar.gz StartedAt: 2025-01-27 22:59:13 -0500 (Mon, 27 Jan 2025) EndedAt: 2025-01-27 23:01:08 -0500 (Mon, 27 Jan 2025) EllapsedTime: 114.9 seconds RetCode: 0 Status: OK CheckDir: ARRmNormalization.Rcheck Warnings: 0