Package: ARRmNormalization Version: 1.46.0 Command: /Library/Frameworks/R.framework/Resources/bin/R CMD build --keep-empty-dirs --no-resave-data ARRmNormalization StartedAt: 2025-03-31 18:46:06 -0400 (Mon, 31 Mar 2025) EndedAt: 2025-03-31 18:46:55 -0400 (Mon, 31 Mar 2025) EllapsedTime: 49.2 seconds RetCode: 0 Status: OK PackageFile: ARRmNormalization_1.46.0.tar.gz PackageFileSize: 1.075 MiB