Package: APL Version: 1.10.2 Command: /home/biocbuild/R/R/bin/R CMD check --install=check:APL.install-out.txt --library=/home/biocbuild/R/R/site-library --no-vignettes --timings APL_1.10.2.tar.gz StartedAt: 2025-04-01 03:54:23 -0000 (Tue, 01 Apr 2025) EndedAt: 2025-04-01 04:00:32 -0000 (Tue, 01 Apr 2025) EllapsedTime: 369.8 seconds RetCode: 0 Status: OK CheckDir: APL.Rcheck Warnings: 0