Package: APL Version: 1.10.2 Command: /home/biocbuild/bbs-3.20-bioc/R/bin/R CMD INSTALL APL StartedAt: 2025-02-03 15:46:24 -0500 (Mon, 03 Feb 2025) EndedAt: 2025-02-03 15:47:11 -0500 (Mon, 03 Feb 2025) EllapsedTime: 46.2 seconds RetCode: 0 Status: OK