Package: APL Version: 1.10.2 Command: /home/biocbuild/bbs-3.20-bioc/R/bin/R CMD check --install=check:APL.install-out.txt --library=/home/biocbuild/bbs-3.20-bioc/R/site-library --timings APL_1.10.2.tar.gz StartedAt: 2025-02-03 20:04:59 -0500 (Mon, 03 Feb 2025) EndedAt: 2025-02-03 20:12:01 -0500 (Mon, 03 Feb 2025) EllapsedTime: 422.5 seconds RetCode: 0 Status: OK CheckDir: APL.Rcheck Warnings: 0